Package: Pviz Version: 1.30.0 Command: /Library/Frameworks/R.framework/Resources/bin/R CMD check --install=check:Pviz.install-out.txt --library=/Library/Frameworks/R.framework/Resources/library --no-vignettes --timings Pviz_1.30.0.tar.gz StartedAt: 2022-10-19 06:32:27 -0400 (Wed, 19 Oct 2022) EndedAt: 2022-10-19 06:41:04 -0400 (Wed, 19 Oct 2022) EllapsedTime: 516.7 seconds RetCode: 0 Status: WARNINGS CheckDir: Pviz.Rcheck Warnings: 1