Package: Pviz Version: 1.30.0 Command: F:\biocbuild\bbs-3.15-bioc\R\bin\R.exe CMD INSTALL Pviz StartedAt: 2022-10-18 16:49:42 -0400 (Tue, 18 Oct 2022) EndedAt: 2022-10-18 16:51:16 -0400 (Tue, 18 Oct 2022) EllapsedTime: 94.2 seconds RetCode: 0 Status: OK