Package: RLSeq Version: 1.2.0 Command: /home/biocbuild/bbs-3.15-bioc/R/bin/R CMD check --install=check:RLSeq.install-out.txt --library=/home/biocbuild/bbs-3.15-bioc/R/library --no-vignettes --timings RLSeq_1.2.0.tar.gz StartedAt: 2022-10-18 21:30:39 -0400 (Tue, 18 Oct 2022) EndedAt: 2022-10-18 21:40:41 -0400 (Tue, 18 Oct 2022) EllapsedTime: 601.1 seconds RetCode: 1 Status: ERROR CheckDir: RLSeq.Rcheck Warnings: NA