git_url: https://git.bioconductor.org/packages/RSVSim git_branch: RELEASE_3_15 git_last_commit: d483427 git_last_commit_date: 2022-04-26 11:13:10 -0400 (Tue, 26 Apr 2022) Package: RSVSim Version: 1.36.0 Maintainer: Christoph Bartenhagen MaintainerEmail: c.bartenhagen at uni-koeln.de