Package: RSVSim Version: 1.36.0 Command: rm -rf RSVSim.buildbin-libdir && mkdir RSVSim.buildbin-libdir && F:\biocbuild\bbs-3.15-bioc\R\bin\R.exe CMD INSTALL --build --library=RSVSim.buildbin-libdir RSVSim_1.36.0.tar.gz StartedAt: 2022-10-19 06:30:33 -0400 (Wed, 19 Oct 2022) EndedAt: 2022-10-19 06:31:16 -0400 (Wed, 19 Oct 2022) EllapsedTime: 43.0 seconds RetCode: 0 Status: OK PackageFile: RSVSim_1.36.0.zip PackageFileSize: 617.1 KiB