Package: RUVSeq Version: 1.29.0 Command: rm -rf RUVSeq.buildbin-libdir && mkdir RUVSeq.buildbin-libdir && D:\biocbuild\bbs-3.15-bioc\R\bin\R.exe CMD INSTALL --build --library=RUVSeq.buildbin-libdir RUVSeq_1.29.0.tar.gz StartedAt: 2022-03-17 21:36:34 -0400 (Thu, 17 Mar 2022) EndedAt: 2022-03-17 21:38:01 -0400 (Thu, 17 Mar 2022) EllapsedTime: 86.8 seconds RetCode: 0 Status: OK PackageFile: RUVSeq_1.29.0.zip PackageFileSize: 201.8 KiB