Package: ReportingTools Version: 2.36.0 Command: /Library/Frameworks/R.framework/Resources/bin/R CMD build --keep-empty-dirs --no-resave-data ReportingTools StartedAt: 2022-10-18 21:07:45 -0400 (Tue, 18 Oct 2022) EndedAt: 2022-10-18 21:10:06 -0400 (Tue, 18 Oct 2022) EllapsedTime: 141.5 seconds RetCode: 0 Status: OK PackageFile: ReportingTools_2.36.0.tar.gz PackageFileSize: 1.992 MiB