Package: ReportingTools Version: 2.36.0 Command: /Library/Frameworks/R.framework/Resources/bin/R CMD INSTALL ReportingTools StartedAt: 2022-10-18 16:29:38 -0400 (Tue, 18 Oct 2022) EndedAt: 2022-10-18 16:31:26 -0400 (Tue, 18 Oct 2022) EllapsedTime: 108.7 seconds RetCode: 0 Status: OK