Package: ReportingTools Version: 2.35.0 Command: rm -rf ReportingTools.buildbin-libdir && mkdir ReportingTools.buildbin-libdir && D:\biocbuild\bbs-3.15-bioc\R\bin\R.exe CMD INSTALL --build --library=ReportingTools.buildbin-libdir ReportingTools_2.35.0.tar.gz StartedAt: 2022-03-17 21:33:12 -0400 (Thu, 17 Mar 2022) EndedAt: 2022-03-17 21:34:30 -0400 (Thu, 17 Mar 2022) EllapsedTime: 78.6 seconds RetCode: 0 Status: OK PackageFile: ReportingTools_2.35.0.zip PackageFileSize: 2.262 MiB