Package: Rfastp Version: 1.6.0 Command: /Library/Frameworks/R.framework/Resources/bin/R CMD check --install=check:Rfastp.install-out.txt --library=/Library/Frameworks/R.framework/Resources/library --no-vignettes --timings Rfastp_1.6.0.tar.gz StartedAt: 2022-10-19 07:00:12 -0400 (Wed, 19 Oct 2022) EndedAt: 2022-10-19 07:01:17 -0400 (Wed, 19 Oct 2022) EllapsedTime: 64.3 seconds RetCode: 0 Status: OK CheckDir: Rfastp.Rcheck Warnings: 0