Package: Rfastp Version: 1.6.0 Command: chmod a+r Rfastp -R && F:\biocbuild\bbs-3.15-bioc\R\bin\R.exe CMD build --keep-empty-dirs --no-resave-data Rfastp StartedAt: 2022-10-18 20:37:34 -0400 (Tue, 18 Oct 2022) EndedAt: 2022-10-18 20:39:58 -0400 (Tue, 18 Oct 2022) EllapsedTime: 143.2 seconds RetCode: 0 Status: OK PackageFile: Rfastp_1.6.0.tar.gz PackageFileSize: 2.421 MiB