Package: Rfastp Version: 1.5.0 Command: rm -rf Rfastp.buildbin-libdir && mkdir Rfastp.buildbin-libdir && D:\biocbuild\bbs-3.15-bioc\R\bin\R.exe CMD INSTALL --build --library=Rfastp.buildbin-libdir Rfastp_1.5.0.tar.gz StartedAt: 2022-03-17 21:33:26 -0400 (Thu, 17 Mar 2022) EndedAt: 2022-03-17 21:36:38 -0400 (Thu, 17 Mar 2022) EllapsedTime: 191.7 seconds RetCode: 0 Status: OK PackageFile: Rfastp_1.5.0.zip PackageFileSize: 2.919 MiB