Package: Rqc Version: 1.30.0 Command: /Library/Frameworks/R.framework/Resources/bin/R CMD build --keep-empty-dirs --no-resave-data Rqc StartedAt: 2022-10-18 21:21:19 -0400 (Tue, 18 Oct 2022) EndedAt: 2022-10-18 21:23:38 -0400 (Tue, 18 Oct 2022) EllapsedTime: 139.0 seconds RetCode: 0 Status: OK PackageFile: Rqc_1.30.0.tar.gz PackageFileSize: 1.124 MiB