git_url: https://git.bioconductor.org/packages/SCANVIS git_branch: RELEASE_3_15 git_last_commit: d559a6b git_last_commit_date: 2022-04-26 11:57:29 -0400 (Tue, 26 Apr 2022) Package: SCANVIS Version: 1.10.0 Maintainer: Phaedra Agius MaintainerEmail: pagius at nygenome.org