git_url: https://git.bioconductor.org/packages/SPLINTER git_branch: RELEASE_3_15 git_last_commit: b0553c0 git_last_commit_date: 2022-04-26 11:35:57 -0400 (Tue, 26 Apr 2022) Package: SPLINTER Version: 1.22.0 Maintainer: Diana Low MaintainerEmail: lowdiana at gmail.com