Package: STdeconvolve Version: 1.0.0 Command: F:\biocbuild\bbs-3.15-bioc\R\bin\R.exe CMD INSTALL STdeconvolve StartedAt: 2022-10-18 16:26:35 -0400 (Tue, 18 Oct 2022) EndedAt: 2022-10-18 16:26:45 -0400 (Tue, 18 Oct 2022) EllapsedTime: 9.6 seconds RetCode: 0 Status: OK