Package: Spaniel Version: 1.10.0 Command: /Library/Frameworks/R.framework/Resources/bin/R CMD INSTALL Spaniel StartedAt: 2022-10-18 16:02:02 -0400 (Tue, 18 Oct 2022) EndedAt: 2022-10-18 16:03:13 -0400 (Tue, 18 Oct 2022) EllapsedTime: 71.7 seconds RetCode: 0 Status: OK