Package: Spaniel Version: 1.9.0 Command: chmod a+r Spaniel -R && D:\biocbuild\bbs-3.15-bioc\R\bin\R.exe CMD build --keep-empty-dirs --no-resave-data Spaniel StartedAt: 2022-03-17 18:06:26 -0400 (Thu, 17 Mar 2022) EndedAt: 2022-03-17 18:08:35 -0400 (Thu, 17 Mar 2022) EllapsedTime: 129.0 seconds RetCode: 0 Status: OK PackageFile: Spaniel_1.9.0.tar.gz PackageFileSize: 3.719 MiB