Package: Spectra Version: 1.6.0 Command: rm -rf Spectra.buildbin-libdir && mkdir Spectra.buildbin-libdir && /Users/biocbuild/BBS/utils/build-universal.sh Spectra_1.6.0.tar.gz /Library/Frameworks/R.framework/Resources/bin/R Spectra.buildbin-libdir StartedAt: 2022-10-19 11:14:56 -0400 (Wed, 19 Oct 2022) EndedAt: 2022-10-19 11:15:25 -0400 (Wed, 19 Oct 2022) EllapsedTime: 29.3 seconds RetCode: 0 Status: OK PackageFile: Spectra_1.6.0.tgz PackageFileSize: 1.164 MiB