Package: Spectra Version: 1.5.13 Command: D:\biocbuild\bbs-3.15-bioc\R\bin\R.exe CMD check --no-multiarch --install=check:Spectra.install-out.txt --library=D:\biocbuild\bbs-3.15-bioc\R\library --no-vignettes --timings Spectra_1.5.13.tar.gz StartedAt: 2022-03-17 20:21:55 -0400 (Thu, 17 Mar 2022) EndedAt: 2022-03-17 20:28:16 -0400 (Thu, 17 Mar 2022) EllapsedTime: 380.8 seconds RetCode: 0 Status: OK CheckDir: Spectra.Rcheck Warnings: 0