git_url: https://git.bioconductor.org/packages/SummarizedBenchmark git_branch: RELEASE_3_15 git_last_commit: aac0d7a git_last_commit_date: 2022-04-26 11:47:56 -0400 (Tue, 26 Apr 2022) Package: SummarizedBenchmark Version: 2.14.0 Maintainer: Patrick Kimes MaintainerEmail: patrick.kimes at gmail.com