Package: SummarizedBenchmark Version: 2.14.0 Command: rm -rf SummarizedBenchmark.buildbin-libdir && mkdir SummarizedBenchmark.buildbin-libdir && F:\biocbuild\bbs-3.15-bioc\R\bin\R.exe CMD INSTALL --build --library=SummarizedBenchmark.buildbin-libdir SummarizedBenchmark_2.14.0.tar.gz StartedAt: 2022-10-19 06:39:18 -0400 (Wed, 19 Oct 2022) EndedAt: 2022-10-19 06:40:04 -0400 (Wed, 19 Oct 2022) EllapsedTime: 45.2 seconds RetCode: 0 Status: OK PackageFile: SummarizedBenchmark_2.14.0.zip PackageFileSize: 9.003 MiB