Package: Sushi Version: 1.33.1 Command: rm -rf Sushi.buildbin-libdir && mkdir Sushi.buildbin-libdir && D:\biocbuild\bbs-3.15-bioc\R\bin\R.exe CMD INSTALL --build --library=Sushi.buildbin-libdir Sushi_1.33.1.tar.gz StartedAt: 2022-03-17 21:43:27 -0400 (Thu, 17 Mar 2022) EndedAt: 2022-03-17 21:44:50 -0400 (Thu, 17 Mar 2022) EllapsedTime: 83.5 seconds RetCode: 0 Status: OK PackageFile: Sushi_1.33.1.zip PackageFileSize: 3.477 MiB