Package: TAPseq Version: 1.8.0 Command: /Library/Frameworks/R.framework/Resources/bin/R CMD INSTALL TAPseq StartedAt: 2022-10-18 16:18:40 -0400 (Tue, 18 Oct 2022) EndedAt: 2022-10-18 16:19:55 -0400 (Tue, 18 Oct 2022) EllapsedTime: 74.8 seconds RetCode: 0 Status: OK