Package: TFBSTools Version: 1.34.0 Command: /home/biocbuild/bbs-3.15-bioc/R/bin/R CMD INSTALL TFBSTools StartedAt: 2022-10-18 15:37:08 -0400 (Tue, 18 Oct 2022) EndedAt: 2022-10-18 15:37:53 -0400 (Tue, 18 Oct 2022) EllapsedTime: 44.5 seconds RetCode: 0 Status: OK