Package: Travel Version: 1.4.0 Command: rm -rf Travel.buildbin-libdir && mkdir Travel.buildbin-libdir && F:\biocbuild\bbs-3.15-bioc\R\bin\R.exe CMD INSTALL --build --library=Travel.buildbin-libdir Travel_1.4.0.tar.gz StartedAt: 2022-10-19 06:42:42 -0400 (Wed, 19 Oct 2022) EndedAt: 2022-10-19 06:44:19 -0400 (Wed, 19 Oct 2022) EllapsedTime: 96.7 seconds RetCode: 0 Status: OK PackageFile: Travel_1.4.0.zip PackageFileSize: 824.9 KiB