Package: VanillaICE Version: 1.58.0 Command: /Library/Frameworks/R.framework/Resources/bin/R CMD INSTALL VanillaICE StartedAt: 2022-10-18 16:24:02 -0400 (Tue, 18 Oct 2022) EndedAt: 2022-10-18 16:25:07 -0400 (Tue, 18 Oct 2022) EllapsedTime: 65.8 seconds RetCode: 0 Status: OK