Package: VanillaICE Version: 1.58.0 Command: chmod a+r VanillaICE -R && F:\biocbuild\bbs-3.15-bioc\R\bin\R.exe CMD build --keep-empty-dirs --no-resave-data VanillaICE StartedAt: 2022-10-18 21:35:49 -0400 (Tue, 18 Oct 2022) EndedAt: 2022-10-18 21:37:29 -0400 (Tue, 18 Oct 2022) EllapsedTime: 100.1 seconds RetCode: 0 Status: OK PackageFile: VanillaICE_1.58.0.tar.gz PackageFileSize: 1.798 MiB