Package: VanillaICE Version: 1.57.2 Command: rm -rf VanillaICE.buildbin-libdir && mkdir VanillaICE.buildbin-libdir && D:\biocbuild\bbs-3.15-bioc\R\bin\R.exe CMD INSTALL --build --library=VanillaICE.buildbin-libdir VanillaICE_1.57.2.tar.gz StartedAt: 2022-03-17 21:46:49 -0400 (Thu, 17 Mar 2022) EndedAt: 2022-03-17 21:48:19 -0400 (Thu, 17 Mar 2022) EllapsedTime: 90.4 seconds RetCode: 0 Status: OK PackageFile: VanillaICE_1.57.2.zip PackageFileSize: 2.942 MiB