Package: VanillaICE Version: 1.57.2 Command: chmod a+r VanillaICE -R && D:\biocbuild\bbs-3.15-bioc\R\bin\R.exe CMD build --keep-empty-dirs --no-resave-data VanillaICE StartedAt: 2022-03-17 18:15:28 -0400 (Thu, 17 Mar 2022) EndedAt: 2022-03-17 18:16:48 -0400 (Thu, 17 Mar 2022) EllapsedTime: 79.9 seconds RetCode: 0 Status: OK PackageFile: VanillaICE_1.57.2.tar.gz PackageFileSize: 1.913 MiB