Package: VanillaICE Version: 1.57.2 Command: D:\biocbuild\bbs-3.15-bioc\R\bin\R.exe CMD check --no-multiarch --install=check:VanillaICE.install-out.txt --library=D:\biocbuild\bbs-3.15-bioc\R\library --no-vignettes --timings VanillaICE_1.57.2.tar.gz StartedAt: 2022-03-17 20:34:22 -0400 (Thu, 17 Mar 2022) EndedAt: 2022-03-17 20:37:49 -0400 (Thu, 17 Mar 2022) EllapsedTime: 206.7 seconds RetCode: 0 Status: WARNINGS CheckDir: VanillaICE.Rcheck Warnings: 1