git_url: https://git.bioconductor.org/packages/VariantTools git_branch: RELEASE_3_15 git_last_commit: 517f59a git_last_commit_date: 2022-04-26 11:12:34 -0400 (Tue, 26 Apr 2022) Package: VariantTools Version: 1.38.0 Maintainer: Michael Lawrence MaintainerEmail: michafla at gene.com