Package: aroma.light Version: 3.25.0 Command: D:\biocbuild\bbs-3.15-bioc\R\bin\R.exe CMD check --no-multiarch --install=check:aroma.light.install-out.txt --library=D:\biocbuild\bbs-3.15-bioc\R\library --no-vignettes --timings aroma.light_3.25.0.tar.gz StartedAt: 2022-03-17 18:27:18 -0400 (Thu, 17 Mar 2022) EndedAt: 2022-03-17 18:28:36 -0400 (Thu, 17 Mar 2022) EllapsedTime: 78.6 seconds RetCode: 0 Status: OK CheckDir: aroma.light.Rcheck Warnings: 0