Package: biocViews Version: 1.64.1 Command: /home/biocbuild/bbs-3.15-bioc/R/bin/R CMD build --keep-empty-dirs --no-resave-data biocViews StartedAt: 2022-10-18 16:04:12 -0400 (Tue, 18 Oct 2022) EndedAt: 2022-10-18 16:04:27 -0400 (Tue, 18 Oct 2022) EllapsedTime: 14.9 seconds RetCode: 0 Status: OK PackageFile: biocViews_1.64.1.tar.gz PackageFileSize: 262.1 KiB