Package: biscuiteer Version: 1.10.0 Command: rm -rf biscuiteer.buildbin-libdir && mkdir biscuiteer.buildbin-libdir && F:\biocbuild\bbs-3.15-bioc\R\bin\R.exe CMD INSTALL --build --library=biscuiteer.buildbin-libdir biscuiteer_1.10.0.tar.gz StartedAt: 2022-10-19 05:36:15 -0400 (Wed, 19 Oct 2022) EndedAt: 2022-10-19 05:37:44 -0400 (Wed, 19 Oct 2022) EllapsedTime: 89.0 seconds RetCode: 0 Status: OK PackageFile: biscuiteer_1.10.0.zip PackageFileSize: 5.172 MiB