Package: brendaDb Version: 1.10.0 Command: rm -rf brendaDb.buildbin-libdir && mkdir brendaDb.buildbin-libdir && F:\biocbuild\bbs-3.15-bioc\R\bin\R.exe CMD INSTALL --build --library=brendaDb.buildbin-libdir brendaDb_1.10.0.tar.gz StartedAt: 2022-10-14 05:25:44 -0400 (Fri, 14 Oct 2022) EndedAt: 2022-10-14 05:26:14 -0400 (Fri, 14 Oct 2022) EllapsedTime: 30.3 seconds RetCode: 0 Status: OK PackageFile: brendaDb_1.10.0.zip PackageFileSize: 1.049 MiB