Package: brendaDb Version: 1.10.0 Command: F:\biocbuild\bbs-3.15-bioc\R\bin\R.exe CMD check --no-multiarch --install=check:brendaDb.install-out.txt --library=F:\biocbuild\bbs-3.15-bioc\R\library --no-vignettes --timings brendaDb_1.10.0.tar.gz StartedAt: 2022-10-13 22:22:00 -0400 (Thu, 13 Oct 2022) EndedAt: 2022-10-13 22:24:13 -0400 (Thu, 13 Oct 2022) EllapsedTime: 133.1 seconds RetCode: 1 Status: ERROR CheckDir: brendaDb.Rcheck Warnings: NA