Package: brendaDb Version: 1.9.0 Command: rm -rf brendaDb.buildbin-libdir && mkdir brendaDb.buildbin-libdir && D:\biocbuild\bbs-3.15-bioc\R\bin\R.exe CMD INSTALL --build --library=brendaDb.buildbin-libdir brendaDb_1.9.0.tar.gz StartedAt: 2022-03-17 20:56:46 -0400 (Thu, 17 Mar 2022) EndedAt: 2022-03-17 20:58:31 -0400 (Thu, 17 Mar 2022) EllapsedTime: 104.1 seconds RetCode: 0 Status: OK PackageFile: brendaDb_1.9.0.zip PackageFileSize: 1.07 MiB