Package: brendaDb Version: 1.9.0 Command: chmod a+r brendaDb -R && D:\biocbuild\bbs-3.15-bioc\R\bin\R.exe CMD build --keep-empty-dirs --no-resave-data brendaDb StartedAt: 2022-03-17 16:29:10 -0400 (Thu, 17 Mar 2022) EndedAt: 2022-03-17 16:29:56 -0400 (Thu, 17 Mar 2022) EllapsedTime: 46.5 seconds RetCode: 0 Status: OK PackageFile: brendaDb_1.9.0.tar.gz PackageFileSize: 640.5 KiB