git_url: https://git.bioconductor.org/packages/cghMCR git_branch: RELEASE_3_15 git_last_commit: bd66110 git_last_commit_date: 2022-04-26 10:58:22 -0400 (Tue, 26 Apr 2022) Package: cghMCR Version: 1.54.0 Maintainer: J. Zhang MaintainerEmail: jzhang at jimmy.harvard.edu