Package: chromVAR Version: 1.18.0 Command: rm -rf chromVAR.buildbin-libdir && mkdir chromVAR.buildbin-libdir && /Users/biocbuild/BBS/utils/build-universal.sh chromVAR_1.18.0.tar.gz /Library/Frameworks/R.framework/Resources/bin/R chromVAR.buildbin-libdir StartedAt: 2022-10-19 10:05:55 -0400 (Wed, 19 Oct 2022) EndedAt: 2022-10-19 10:08:11 -0400 (Wed, 19 Oct 2022) EllapsedTime: 136.5 seconds RetCode: 0 Status: OK PackageFile: chromVAR_1.18.0.tgz PackageFileSize: 1.444 MiB