Package: cliqueMS Version: 1.10.0 Command: rm -rf cliqueMS.buildbin-libdir && mkdir cliqueMS.buildbin-libdir && /Users/biocbuild/BBS/utils/build-universal.sh cliqueMS_1.10.0.tar.gz /Library/Frameworks/R.framework/Resources/bin/R cliqueMS.buildbin-libdir StartedAt: 2022-10-19 10:06:35 -0400 (Wed, 19 Oct 2022) EndedAt: 2022-10-19 10:08:46 -0400 (Wed, 19 Oct 2022) EllapsedTime: 131.5 seconds RetCode: 0 Status: OK PackageFile: cliqueMS_1.10.0.tgz PackageFileSize: 1.003 MiB