Package: cliqueMS Version: 1.10.0 Command: /Library/Frameworks/R.framework/Resources/bin/R CMD check --install=check:cliqueMS.install-out.txt --library=/Library/Frameworks/R.framework/Resources/library --no-vignettes --timings cliqueMS_1.10.0.tar.gz StartedAt: 2022-10-19 00:37:04 -0400 (Wed, 19 Oct 2022) EndedAt: 2022-10-19 00:45:27 -0400 (Wed, 19 Oct 2022) EllapsedTime: 503.0 seconds RetCode: 0 Status: OK CheckDir: cliqueMS.Rcheck Warnings: 0