Package: coGPS Version: 1.40.0 Command: chmod a+r coGPS -R && F:\biocbuild\bbs-3.15-bioc\R\bin\R.exe CMD build --keep-empty-dirs --no-resave-data coGPS StartedAt: 2022-10-18 17:49:55 -0400 (Tue, 18 Oct 2022) EndedAt: 2022-10-18 17:50:10 -0400 (Tue, 18 Oct 2022) EllapsedTime: 14.3 seconds RetCode: 0 Status: OK PackageFile: coGPS_1.40.0.tar.gz PackageFileSize: 1.64 MiB