Package: coGPS Version: 1.40.0 Command: F:\biocbuild\bbs-3.15-bioc\R\bin\R.exe CMD check --no-multiarch --install=check:coGPS.install-out.txt --library=F:\biocbuild\bbs-3.15-bioc\R\library --no-vignettes --timings coGPS_1.40.0.tar.gz StartedAt: 2022-10-18 23:08:24 -0400 (Tue, 18 Oct 2022) EndedAt: 2022-10-18 23:09:05 -0400 (Tue, 18 Oct 2022) EllapsedTime: 40.5 seconds RetCode: 0 Status: OK CheckDir: coGPS.Rcheck Warnings: 0