Package: coGPS Version: 1.39.0 Command: rm -rf coGPS.buildbin-libdir && mkdir coGPS.buildbin-libdir && D:\biocbuild\bbs-3.15-bioc\R\bin\R.exe CMD INSTALL --build --library=coGPS.buildbin-libdir coGPS_1.39.0.tar.gz StartedAt: 2022-03-17 21:01:34 -0400 (Thu, 17 Mar 2022) EndedAt: 2022-03-17 21:02:51 -0400 (Thu, 17 Mar 2022) EllapsedTime: 77.1 seconds RetCode: 0 Status: OK PackageFile: coGPS_1.39.0.zip PackageFileSize: 1.718 MiB