Package: consensusSeekeR Version: 1.24.0 Command: rm -rf consensusSeekeR.buildbin-libdir && mkdir consensusSeekeR.buildbin-libdir && F:\biocbuild\bbs-3.15-bioc\R\bin\R.exe CMD INSTALL --build --library=consensusSeekeR.buildbin-libdir consensusSeekeR_1.24.0.tar.gz StartedAt: 2022-10-19 05:43:54 -0400 (Wed, 19 Oct 2022) EndedAt: 2022-10-19 05:44:27 -0400 (Wed, 19 Oct 2022) EllapsedTime: 33.8 seconds RetCode: 0 Status: OK PackageFile: consensusSeekeR_1.24.0.zip PackageFileSize: 622.2 KiB