Package: coseq Version: 1.20.0 Command: rm -rf coseq.buildbin-libdir && mkdir coseq.buildbin-libdir && F:\biocbuild\bbs-3.15-bioc\R\bin\R.exe CMD INSTALL --build --library=coseq.buildbin-libdir coseq_1.20.0.tar.gz StartedAt: 2022-10-19 05:44:21 -0400 (Wed, 19 Oct 2022) EndedAt: 2022-10-19 05:45:09 -0400 (Wed, 19 Oct 2022) EllapsedTime: 47.9 seconds RetCode: 0 Status: OK PackageFile: coseq_1.20.0.zip PackageFileSize: 1.425 MiB