Package: coseq Version: 1.19.0 Command: rm -rf coseq.buildbin-libdir && mkdir coseq.buildbin-libdir && D:\biocbuild\bbs-3.15-bioc\R\bin\R.exe CMD INSTALL --build --library=coseq.buildbin-libdir coseq_1.19.0.tar.gz StartedAt: 2022-03-17 21:02:28 -0400 (Thu, 17 Mar 2022) EndedAt: 2022-03-17 21:03:31 -0400 (Thu, 17 Mar 2022) EllapsedTime: 63.3 seconds RetCode: 0 Status: OK PackageFile: coseq_1.19.0.zip PackageFileSize: 1.5 MiB