Package: daMA Version: 1.68.0 Command: /Library/Frameworks/R.framework/Resources/bin/R CMD build --keep-empty-dirs --no-resave-data daMA StartedAt: 2022-10-18 17:56:43 -0400 (Tue, 18 Oct 2022) EndedAt: 2022-10-18 17:56:45 -0400 (Tue, 18 Oct 2022) EllapsedTime: 2.2 seconds RetCode: 0 Status: OK PackageFile: daMA_1.68.0.tar.gz PackageFileSize: 4.026 MiB